BEGIN:VCALENDAR
PRODID:-//eluceo/ical//2.0/EN
VERSION:2.0
CALSCALE:GREGORIAN
BEGIN:VEVENT
UID:b450b9bcd9a380e4b59c80d4188d440e
DTSTAMP:20260424T112057Z
SUMMARY:Yousef Bashir- The Words of My Father
DESCRIPTION:Jewish Federation of West-Central New Jersey\nCommunity Calenda
 r\nhttps://jfedwcnj.org/calendar/yousef-bashir--the-words-of-my-father-157
 1772919\n\nIn The Words of My Father: Love and Pain in Palestine\, Yousef 
 Bashir recalls his adolescence in Gaza during the Second Intifada\, and ho
 w he made a strong commitment to peace in the face of devastating brutalit
 y. This moving\, candid\, and transformative memoir\, reminds us of the im
 portance of looking beyond prejudice\, anger and fear. Yousef Bashir is a 
 Palestinian-American from the Gaza Strip. He is the son of Khalil Bashir\,
  a highly respected educator. Still suffering the effects of a near cat...
DTSTART;TZID=America/New_York:20191024T190000
DTEND;TZID=America/New_York:20191024T210000
END:VEVENT
END:VCALENDAR
