BEGIN:VCALENDAR
PRODID:-//eluceo/ical//2.0/EN
VERSION:2.0
CALSCALE:GREGORIAN
BEGIN:VEVENT
UID:f233e397c9a7deae8587d0b0421741d1
DTSTAMP:20260422T163522Z
SUMMARY:Your Guide to Personal Branding: Mastering the Digital Landscape
DESCRIPTION:Jewish Federation of West-Central New Jersey\nCommunity Calenda
 r\nhttps://jfedwcnj.org/calendar/your-guide-to-personal-branding-mastering
 -the-digital-landscape\n\nJoin the Business Networking Group of the Jewish
  Federation of Somerset\, Hunterdon & Warren Counties for a Virtual event 
 featuring Lila Schneider from Let's B Media Creative Marketing Services \
 n\nThursday April 22nd \n\n11:30am- 12:30pm \n\nCouvert: $18 \n\nPartic
 ipants can expect the following:\n\nPersonal branding worksheet\n\nIdeas f
 or social media posts \n\n“How-to’s & tips” worksheet on digital la
 ndscape \n\n \n\nFor questions please call Lauren 908-758-2003 or e-mail
  Ledel...
DTSTART;TZID=America/New_York:20210422T113000
DTEND;TZID=America/New_York:20210422T123000
END:VEVENT
END:VCALENDAR
