BEGIN:VCALENDAR
PRODID:-//eluceo/ical//2.0/EN
VERSION:2.0
CALSCALE:GREGORIAN
BEGIN:VEVENT
UID:12adf365ef615711f1860714cd051537
DTSTAMP:20260422T091927Z
SUMMARY:YOUNG LEADER VIRTUAL GIVING CIRCLE
DESCRIPTION:Jewish Federation of West-Central New Jersey\nCommunity Calenda
 r\nhttps://jfedwcnj.org/calendar/young-leader-virtual-giving-circle-160407
 7803\n\nJoin young adults from our area to\nlearn & discuss how Jewish val
 ues\nguide the way we give while making a\ndirect impact on our community 
 & around the world.\n\nSIGN UP TO MAKE A DIFFERENCE\nJFEDSHAW.ORG/SUPERSUN
 DAY20\n\n \n\nMINIMUM DONATION OF $18
DTSTART;TZID=America/New_York:20201112T193000
DTEND;TZID=America/New_York:20201112T203000
END:VEVENT
END:VCALENDAR
