BEGIN:VCALENDAR
PRODID:-//eluceo/ical//2.0/EN
VERSION:2.0
CALSCALE:GREGORIAN
BEGIN:VEVENT
UID:5a463c6f5136ec28e73a43f30f5ba3cc
DTSTAMP:20260422T000530Z
SUMMARY:Yossi Klein Halevi: Hartman Scholars Series Part 1
DESCRIPTION:Jewish Federation of West-Central New Jersey\nCommunity Calenda
 r\nhttps://jfedwcnj.org/calendar/yossi-klein-halevi-hartman-scholars-serie
 s-part-1\n\nThe 50th Anniversary of the Six Day War -- Its Impact on Isra
 eli Society Then and Now\n\nYossi Klein Halevi is a senior fellow at the 
 Shalom Hartman Institute in Jerusalem. Together with Imam Abdullah Antepli
  of Duke University\, he co-directs the Institue's Muslim Leadership Initi
 ative. He is a former contributor editor of the New Republic and writes fr
 equently for the op-ed pages of leading American newspapers. Yossi has be
 en active in Middle East reconciliation work\, and serves as chairm...
DTSTART;TZID=America/New_York:20170316T190000
DTEND;TZID=America/New_York:20170316T210000
END:VEVENT
END:VCALENDAR
