BEGIN:VCALENDAR
PRODID:-//eluceo/ical//2.0/EN
VERSION:2.0
CALSCALE:GREGORIAN
BEGIN:VEVENT
UID:ba2aac74c1f5503cf9132dbfb84c1115
DTSTAMP:20260420T202211Z
SUMMARY:Yom HaZikaron Ceremony and Dinner
DESCRIPTION:Jewish Federation of West-Central New Jersey\nCommunity Calenda
 r\nhttps://jfedwcnj.org/calendar/yom-hazikaron-ceremony-and-dinner\n\n \n
 \nYom HaZikaron is the day of national remembrance in Israel to commemorat
 e all the soldiers and people who lost their lives during the struggle to 
 defend the State of Israel. On this day we mourn and remember our fallen 
 soldiers and all lives lost by terror over the past 77 + years.\n\nThis y
 ear’s ceremony will also honor the victims of the October 7 attacks and 
 those who fought bravely to defend their homes and families.\n\nJoin us fo
 r a Ceremony and Dinner starting at 6 pm.\n\nThis...
DTSTART;TZID=America/New_York:20250430T180000
DTEND;TZID=America/New_York:20250430T200000
END:VEVENT
END:VCALENDAR
