BEGIN:VCALENDAR
PRODID:-//eluceo/ical//2.0/EN
VERSION:2.0
CALSCALE:GREGORIAN
BEGIN:VEVENT
UID:006e5a927d2803c95b9ce7bde74b97b5
DTSTAMP:20260422T061312Z
SUMMARY:Yom HaShoah Program:  The Loss & Return of Art & Judaica from the N
 azi Era
DESCRIPTION:Jewish Federation of West-Central New Jersey\nCommunity Calenda
 r\nhttps://jfedwcnj.org/calendar/yom-hashoah-program--the-loss--return-of-
 art--judaica-from-the-nazi-era-1461248486\n\nDr. Wesley A. Fisher is Direc
 tor of Research of the Conference on Jewish Material Claims Against German
 y\, Inc. and the Head of Claims Conference of the World Jewish Restitution
  Organization Looted Art and Cultural Property Initiative. Dr. Fisher will
  provide a worldwide overview of Nazi-era looted art from the end of WWII 
 to the present. He will also discuss the role of the United States and Isr
 ael and speak specifically about the unique issues concerning looted Judai
 ca.
DTSTART;TZID=America/New_York:20160501T110000
DTEND;TZID=America/New_York:20160501T120000
END:VEVENT
END:VCALENDAR
