BEGIN:VCALENDAR
PRODID:-//eluceo/ical//2.0/EN
VERSION:2.0
CALSCALE:GREGORIAN
BEGIN:VEVENT
UID:c67f8322fd95bd5f4065dc781aa37f9d
DTSTAMP:20260426T022155Z
SUMMARY:Community-Wide Yom HaShoah Program
DESCRIPTION:Jewish Federation of West-Central New Jersey\nCommunity Calenda
 r\nhttps://jfedwcnj.org/calendar/yom-hashoah-program\n\nThis year’s Yom 
 Hashoah program is being hosted by Congregation Knesseth Israel.  It will
  be on Sunday\, April 23 at 7pm in the evening.  \n\nOur guest speakers w
 ill be Bernard and Henry Schanzer.  Bernard and Henry Schanzer\, identica
 l twins who were born in Liege\, Belgium\, fled to France with their paren
 ts when the Germans invaded Belgium in May of 1940.  Their father was dep
 orted to Auschwitz and their mother encountered many life-threatening situ
 ations.  Thanks to her fortitude\, and ...
DTSTART;TZID=America/New_York:20170423T190000
DTEND;TZID=America/New_York:20170423T210000
END:VEVENT
END:VCALENDAR
