BEGIN:VCALENDAR
PRODID:-//eluceo/ical//2.0/EN
VERSION:2.0
CALSCALE:GREGORIAN
BEGIN:VEVENT
UID:bdb3cfbde1bf1b05c121fa1c8eb4c91d
DTSTAMP:20260423T050704Z
SUMMARY:Community Yom HaShoah Holocaust Remembrance
DESCRIPTION:Jewish Federation of West-Central New Jersey\nCommunity Calenda
 r\nhttps://jfedwcnj.org/calendar/yom-hashoah-holocaust-remembrance-1520956
 447\n\nAnnual Community Wide Observance with Memorial Service Candle light
 ing Recital of the Kaddish.\n\nAlso Guest Speaker: George Blank\, Communi
 ty Leader
DTSTART;TZID=America/New_York:20180411T190000
DTEND;TZID=America/New_York:20180411T210000
END:VEVENT
END:VCALENDAR
