BEGIN:VCALENDAR
PRODID:-//eluceo/ical//2.0/EN
VERSION:2.0
CALSCALE:GREGORIAN
BEGIN:VEVENT
UID:c3c5fa217f8921a42eaada93ee68b07f
DTSTAMP:20260423T195818Z
SUMMARY:YOM HASHOAH COMMEMORATION AND REMEMBRANCE WITH MAUD DAHME
DESCRIPTION:Jewish Federation of West-Central New Jersey\nCommunity Calenda
 r\nhttps://jfedwcnj.org/calendar/yom-hashoah-commemoration-and-remembrance
 -with-maud-dahme\n\nYOM HASHOAH COMMEMORATION AND REMEMBRANCE WITH MAUD DA
 HME\n\nThis program is taking place online on the actual date of liberatio
 n for Maud\nDahme\, a Holocaust Survivor from The Netherlands. We will hea
 r testimony from\nMaud and see a virtual tour of the Montreal Holocaust Mu
 seum exhibit. This\nexhibit from Canada is essential to Maud’s story of 
 liberation as the Canadian\ntroops went in to the Netherlands to liberate 
 this country. We will hear Maud’s\nremembrances of her liberation and jo
 ...
DTSTART;TZID=America/New_York:20220419T190000
DTEND;TZID=America/New_York:20220419T200000
END:VEVENT
END:VCALENDAR
