BEGIN:VCALENDAR
PRODID:-//eluceo/ical//2.0/EN
VERSION:2.0
CALSCALE:GREGORIAN
BEGIN:VEVENT
UID:d32845075046d02f9405bf3ac8d2a4fa
DTSTAMP:20260424T131509Z
SUMMARY:Yom Hashoah - Holocaust Remembrance Day
DESCRIPTION:Jewish Federation of West-Central New Jersey\nCommunity Calenda
 r\nhttps://jfedwcnj.org/calendar/yom-hashoah---holocaust-remembrance-day-1
 462217685\n\nThe documentary features interviews with Margit Feldman\, a H
 olocaust survivor who lives in Somerset\, N.J. The film focuses on Margit
 ’s life after the Holocaust. The interview discusses how Margit was able
  to adapt to her new life while living with her cousins. Margit finds love
  and marries Harvey Feldman. She builds a new life with their family and t
 heir two children are the center of her life. We meet her children and gra
 ndchildren who talk about their family activities and experiences...
DTSTART;TZID=America/New_York:20160505T190000
DTEND;TZID=America/New_York:20160505T210000
END:VEVENT
END:VCALENDAR
