BEGIN:VCALENDAR
PRODID:-//eluceo/ical//2.0/EN
VERSION:2.0
CALSCALE:GREGORIAN
BEGIN:VEVENT
UID:61eaba7b9a6d382066111f6c5661cf3a
DTSTAMP:20260420T135709Z
SUMMARY:Yom HaAtzma’ut
DESCRIPTION:Jewish Federation of West-Central New Jersey\nCommunity Calenda
 r\nhttps://jfedwcnj.org/calendar/yom-haatzmaut2026-489033\n\n
DTSTART;TZID=America/New_York:20260422T000000
DTEND;TZID=America/New_York:20260422T235959
END:VEVENT
END:VCALENDAR
