BEGIN:VCALENDAR
PRODID:-//eluceo/ical//2.0/EN
VERSION:2.0
CALSCALE:GREGORIAN
BEGIN:VEVENT
UID:3dc39f6996ec1bedbd7895a9a054cc5d
DTSTAMP:20260424T074628Z
SUMMARY:Yom Ha’atzmaut-Shabbat Celebration
DESCRIPTION:Jewish Federation of West-Central New Jersey\nCommunity Calenda
 r\nhttps://jfedwcnj.org/calendar/yom-haatzmaut-shabbat-celebration-1462237
 695\n\nJoin us for an evening of DJ\, Games\, Crafts &amp\; Fun! Falafel D
 inner for Adults and Pasta for Kids This event will be held outdoors on th
 e campsite\, weather permitting.In the event of rain\, the celebration wil
 l be held indoors.\n\nDiscounted Member Fee: $15/child &bull\; Fee: $20/ch
 ild.   Adults are FREE.  Please register by Monday\, May 9
DTSTART;TZID=America/New_York:20160513T173000
DTEND;TZID=America/New_York:20160513T193000
END:VEVENT
END:VCALENDAR
