BEGIN:VCALENDAR
PRODID:-//eluceo/ical//2.0/EN
VERSION:2.0
CALSCALE:GREGORIAN
BEGIN:VEVENT
UID:6014fad48ba6bf0b9f7f7658edfa6e9b
DTSTAMP:20260422T225955Z
SUMMARY:Yom HaAtzmaut event featuring AIPAC's Elliot Brandt
DESCRIPTION:Jewish Federation of West-Central New Jersey\nCommunity Calenda
 r\nhttps://jfedwcnj.org/calendar/yom-haatzmaut-event-featuring-aipacs-elli
 ot-brandt-1459200699\n\nPlease join us on May 11 for a communal NJ event f
 eaturing AIPAC's Elliot Brandt. For more information please contact Jackie
  Kelly\, AIPAC's NJ Associate Director\, at 646-360-1513 or jkelly@aipac.o
 rg
DTSTART;TZID=America/New_York:20160511T190000
DTEND;TZID=America/New_York:20160511T210000
END:VEVENT
END:VCALENDAR
