BEGIN:VCALENDAR
PRODID:-//eluceo/ical//2.0/EN
VERSION:2.0
CALSCALE:GREGORIAN
BEGIN:VEVENT
UID:127ebe4144d8a3dcc2da9caa1e4c3824
DTSTAMP:20260422T005441Z
SUMMARY:Yom Ha'Atzmaut Community Celebration with Rick Recht
DESCRIPTION:Jewish Federation of West-Central New Jersey\nCommunity Calenda
 r\nhttps://jfedwcnj.org/calendar/yom-haatzmaut-community-celebration-with-
 rick-recht\n\nCommunity Yom Ha'Atzmaut - Rick Recht Concert \n\n\nThursda
 y\, May 5\, 2022 \n\n \n\nDinner 5pm (Must Pre-Purchased) \n\nFal
 afal sandwich $15 \n\n Pizza slice $3 \n\ninclues a drink \n\n \n\nCo
 ncert 5:30pm \n\n$18/ Immediate Family \n\n$10/ Person \n\n$72/ Family
  Sponsorship \n\n(includes concert and meet &greet with Rick)\n\n \n\nOn
  the Campground at the JCC (indoors if raining)\n\n775 Talamini 
 Road\, Bridgewater\, NJ 08807 \n\n \n\nConcert Partners \n\nJewi...
DTSTART;TZID=America/New_York:20220505T170000
DTEND;TZID=America/New_York:20220505T193000
END:VEVENT
END:VCALENDAR
