BEGIN:VCALENDAR
PRODID:-//eluceo/ical//2.0/EN
VERSION:2.0
CALSCALE:GREGORIAN
BEGIN:VEVENT
UID:bea821c2318ba6295cb2d17a133d6855
DTSTAMP:20260426T031320Z
SUMMARY:Yom Ha’Atzmaut celebration
DESCRIPTION:Jewish Federation of West-Central New Jersey\nCommunity Calenda
 r\nhttps://jfedwcnj.org/calendar/yom-haatzmaut-celebration\n\nCelebrate Is
 rael with special guests\, Israeli gold-medal-hopefuls and a celebration i
 n honor of Israel’s President Rivlin.
DTSTART;TZID=America/New_York:20210415T190000
DTEND;TZID=America/New_York:20210415T210000
END:VEVENT
END:VCALENDAR
