BEGIN:VCALENDAR
PRODID:-//eluceo/ical//2.0/EN
VERSION:2.0
CALSCALE:GREGORIAN
BEGIN:VEVENT
UID:28dd9ce97918df8b7960db8914af0dcf
DTSTAMP:20260426T011455Z
SUMMARY:Yoga for Health Professionals
DESCRIPTION:Jewish Federation of West-Central New Jersey\nCommunity Calenda
 r\nhttps://jfedwcnj.org/calendar/yoga\n\nThe Mamionides Medical Society is
  holding a Yoga class for members. Come join us for Yoga and then networki
 ng\, wine and chesse after the event. \n\n \n\nIt wil be held at Natural
  Medicine Rehabilitation \n\n339 Campus Drive 1st floor\, Somerset \n\n
  \n\n 
DTSTART;TZID=America/New_York:20190925T190000
DTEND;TZID=America/New_York:20190925T210000
END:VEVENT
END:VCALENDAR
