BEGIN:VCALENDAR
PRODID:-//eluceo/ical//2.0/EN
VERSION:2.0
CALSCALE:GREGORIAN
BEGIN:VEVENT
UID:1055acbd781a2985555181b17ba9d24f
DTSTAMP:20260422T104320Z
SUMMARY:YESTERcades Outing for Adults with Special Needs
DESCRIPTION:Jewish Federation of West-Central New Jersey\nCommunity Calenda
 r\nhttps://jfedwcnj.org/calendar/yestercades-outing-for-adults-with-specia
 l-needs-1705575369\n\nExplore a nostalgic gaming haven at Yestercades! Imm
 erse yourself in a retro gaming experience with classic arcade games\, pin
 ball machines\, and modern gaming consoles. Visit our locations for a trip
  down memory lane\, filled with fun\, laughter\, and a sense of gaming his
 tory. Yestercades – where timeless entertainment meets the excitement of
  today!"Fee: $25.00/Person | $15.00/Staff/Family Support Incudes 2 hours o
 f play. Meet at YESTERcades in Somerville. Open to Ages 17 and Over. yeste
 rcades...
DTSTART;TZID=America/New_York:20240211T120000
DTEND;TZID=America/New_York:20240211T140000
END:VEVENT
END:VCALENDAR
