BEGIN:VCALENDAR
PRODID:-//eluceo/ical//2.0/EN
VERSION:2.0
CALSCALE:GREGORIAN
BEGIN:VEVENT
UID:08bf88aa21f7512e6a222ac30b0aeaac
DTSTAMP:20260422T115342Z
SUMMARY:Y2L Principle Centered Leadership
DESCRIPTION:Jewish Federation of West-Central New Jersey\nCommunity Calenda
 r\nhttps://jfedwcnj.org/calendar/y2l-principle-centered-leadership-1458574
 539\n\nY2L Principle Centered Leadership
DTSTART;TZID=America/New_York:20160414T130000
DTEND;TZID=America/New_York:20160414T143000
END:VEVENT
END:VCALENDAR
