BEGIN:VCALENDAR
PRODID:-//eluceo/ical//2.0/EN
VERSION:2.0
CALSCALE:GREGORIAN
BEGIN:VEVENT
UID:208134bb58a69aafaafb04887037bcd5
DTSTAMP:20260420T204417Z
SUMMARY:Women's Philanthropy Planning Meeting
DESCRIPTION:Jewish Federation of West-Central New Jersey\nCommunity Calenda
 r\nhttps://jfedwcnj.org/calendar/womens-philanthropy-planning-meeting-1466
 793417\n\nHelp us plan for the Women's Philanthropy fall event\, "Imagine"
  by choosing which organizations to work with. Dinner will be served.OPEN 
 TO ALL.Please RSVP with Topaz Weinglass -- 908-725-6994 x261
DTSTART;TZID=America/New_York:20160718T183000
DTEND;TZID=America/New_York:20160718T203000
END:VEVENT
END:VCALENDAR
