BEGIN:VCALENDAR
PRODID:-//eluceo/ical//2.0/EN
VERSION:2.0
CALSCALE:GREGORIAN
BEGIN:VEVENT
UID:6c7486f8bd01e8d3ba66d8571675a8c2
DTSTAMP:20260424T022254Z
SUMMARY:Women's philanthropy  invites you to Virtual Trivia
DESCRIPTION:Jewish Federation of West-Central New Jersey\nCommunity Calenda
 r\nhttps://jfedwcnj.org/calendar/womens-philanthropy-invites-you-to-virtua
 l-trivia\n\nJoin the Women's Philanthropy Division of the Jewish Federatio
 n of Somerset\, Hunterdon & Warren Counties for a night of Virtual Trivia.
  \n\nthe Triviagame will be user Friendly and all are welcome\n\nCouver
 t: $36 \n\nSponsership oppertunities available. \n\n \n\nfor questions 
 or more infromation please e-mail Ledelman@jfedshaw.org 
DTSTART;TZID=America/New_York:20210421T190000
DTEND;TZID=America/New_York:20210421T200000
END:VEVENT
END:VCALENDAR
