BEGIN:VCALENDAR
PRODID:-//eluceo/ical//2.0/EN
VERSION:2.0
CALSCALE:GREGORIAN
BEGIN:VEVENT
UID:cb9874813b9980a113fa72b9a2eec73d
DTSTAMP:20260423T173306Z
SUMMARY:Women's Philanthropy Imagine!
DESCRIPTION:Jewish Federation of West-Central New Jersey\nCommunity Calenda
 r\nhttps://jfedwcnj.org/calendar/womens-philanthropy-imagine-1502297406\n\
 nEach year we choose a project close to the hearts of the women in our com
 munity. This year’s theme\nwill be Youth at Risk. The Women’s Division
  will be supporting the Yemin Orde Youth Village in Israel\nand the Somers
 et Home for Temporarily Displaced Children here at home. We hope that you 
 will join\nus and give these children a bright future.\n\n \n\nVendor Sho
 pping: 8:30-10:00am and 11:30am-12:30pm\nBrunch and Program: 10:00-11:30am
 \n\n​$36 per person\n\nEvent Sponsorships Are Availa...
DTSTART;TZID=America/New_York:20171024T083000
DTEND;TZID=America/New_York:20171024T123000
END:VEVENT
END:VCALENDAR
