BEGIN:VCALENDAR
PRODID:-//eluceo/ical//2.0/EN
VERSION:2.0
CALSCALE:GREGORIAN
BEGIN:VEVENT
UID:b9c31e0ca684a0d8f760a2b1ec642f34
DTSTAMP:20260422T172531Z
SUMMARY:Women’s Philanthropy Division’s Imagine event brunch
DESCRIPTION:Jewish Federation of West-Central New Jersey\nCommunity Calenda
 r\nhttps://jfedwcnj.org/calendar/womens-philanthropy-divisions-imagine-eve
 nt-brunch\n\n HerStory \n\nBeing the Boss of Your Own Life \n\nFriday N
 ovember 18\, 2022 \n\n8:30AM-10AM : Vendor Shopping \n\n10AM-12PM: Brun
 ch and Program \n\nBridgewater Manor \n\nCouvert $54 \n\nSponsorship op
 pertunties available on the website 
DTSTART;TZID=America/New_York:20221118T083000
DTEND;TZID=America/New_York:20221118T123000
END:VEVENT
END:VCALENDAR
