BEGIN:VCALENDAR
PRODID:-//eluceo/ical//2.0/EN
VERSION:2.0
CALSCALE:GREGORIAN
BEGIN:VEVENT
UID:e126baff3efc610d32b8b0c9784b1d4c
DTSTAMP:20260423T105818Z
SUMMARY:Women's Philanthropy Division Planning Meeting
DESCRIPTION:Jewish Federation of West-Central New Jersey\nCommunity Calenda
 r\nhttps://jfedwcnj.org/calendar/womens-philanthropy-division-planning-mee
 ting-1484153376\n\nJoin the Women's Philanthropy Division to organize the 
 2017 Spring event! The event will raise awareness and funds for victims of
  domestic abuse both here at home and in Israel. Date: Tuesday\, Jan 24 Ti
 me: 11:00 AM  Location: SSBJCCIf you plan to attend\, please email Topaz a
 t tweinglass@jfedshaw.org.
DTSTART;TZID=America/New_York:20170124T110000
DTEND;TZID=America/New_York:20170124T123000
END:VEVENT
END:VCALENDAR
