BEGIN:VCALENDAR
PRODID:-//eluceo/ical//2.0/EN
VERSION:2.0
CALSCALE:GREGORIAN
BEGIN:VEVENT
UID:63fb64aff60350014829b69fe5b87eaf
DTSTAMP:20260423T140555Z
SUMMARY:Winter Open House: Stein Assisted Living
DESCRIPTION:Jewish Federation of West-Central New Jersey\nCommunity Calenda
 r\nhttps://jfedwcnj.org/calendar/winter-open-house-stein-assisted-living-1
 579645253\n\nCome in out of the cold and visit our warm\, welcoming commun
 ity! Tour our building\, meet our staff\, and learn what Stein Assisted Li
 ving has to offer!\n\nHot chocolate and comforting winter refreshments wil
 l be served.\n\nCall or email us to RSVP or for more information!
DTSTART;TZID=America/New_York:20200129T100000
DTEND;TZID=America/New_York:20200129T120000
END:VEVENT
END:VCALENDAR
