BEGIN:VCALENDAR
PRODID:-//eluceo/ical//2.0/EN
VERSION:2.0
CALSCALE:GREGORIAN
BEGIN:VEVENT
UID:454a5d600a18267f541a9c889ffb0e8a
DTSTAMP:20260421T132503Z
SUMMARY:Wing Bowl!
DESCRIPTION:Jewish Federation of West-Central New Jersey\nCommunity Calenda
 r\nhttps://jfedwcnj.org/calendar/wing-bowl\n\nWING BOWL*\nSUPERBOWL SUNDAY
 \n\n$15/ person includes Wing Buffet\, Salad and Soft Drinks\n$50 max/fami
 ly up to 5\n\nNo additional fee to participate in Wing Eating Contest!\n\n
 Wing Competition Divisions:\nAges 13-15\nAges 16-18\nAdults\nWinner of eac
 h division will receive a $100 Visa Giftcard\n\n​Please Register by Febr
 uary 1\nCall Eli Goldstein 908-725-6994 x310\neligoldstein@ssbjcc.org\n\n
  \n\n**All food will be kosher**\n\n \n\n 
DTSTART;TZID=America/New_York:20170205T123000
DTEND;TZID=America/New_York:20170205T143000
END:VEVENT
END:VCALENDAR
