BEGIN:VCALENDAR
PRODID:-//eluceo/ical//2.0/EN
VERSION:2.0
CALSCALE:GREGORIAN
BEGIN:VEVENT
UID:9dadd22ea1465e2169100528b7d11d9a
DTSTAMP:20260421T223028Z
SUMMARY:Who Will Write Our History
DESCRIPTION:Jewish Federation of West-Central New Jersey\nCommunity Calenda
 r\nhttps://jfedwcnj.org/calendar/who-will-write-our-history\n\n
DTSTART;TZID=America/New_York:20191119T190000
DTEND;TZID=America/New_York:20191119T210000
END:VEVENT
END:VCALENDAR
