BEGIN:VCALENDAR
PRODID:-//eluceo/ical//2.0/EN
VERSION:2.0
CALSCALE:GREGORIAN
BEGIN:VEVENT
UID:f1d3e6457c060d541cd60beaca00567b
DTSTAMP:20260421T040121Z
SUMMARY:Who Is An American Jew In 2021: Insights From The Pew Study
DESCRIPTION:Jewish Federation of West-Central New Jersey\nCommunity Calenda
 r\nhttps://jfedwcnj.org/calendar/who-is-an-american-jew-in-2021-insights-f
 rom-the-pew-study-1629129452\n\nRobert Siegel (former Senior Host of NPR
 ’s All Things Considered for 31 years) interviews Prof. Shuly Rubin Schw
 artz (Chancellor\, Jewish Theological Seminary)\, Rabbi Elka Abrahamson (P
 resident\, Wexner Foundation)\, and Prof. Jonathan Sarna (American Jewish 
 History\, Brandeis University). FREE REGISTRATION: www.gcsept.splashthat.c
 om Global Connections is free to the public. REGISTER HERE: www.gcsept.spl
 ashthat.com Watch previous programs at: https://rb.gy/c8e9un. Global Conne
 ctions: Navigating...
DTSTART;TZID=America/New_York:20210923T160000
DTEND;TZID=America/New_York:20210923T170000
END:VEVENT
END:VCALENDAR
