BEGIN:VCALENDAR
PRODID:-//eluceo/ical//2.0/EN
VERSION:2.0
CALSCALE:GREGORIAN
BEGIN:VEVENT
UID:bcb051ca7b874bd575a1b377a2d46a33
DTSTAMP:20260424T075335Z
SUMMARY:What's Newish
DESCRIPTION:Jewish Federation of West-Central New Jersey\nCommunity Calenda
 r\nhttps://jfedwcnj.org/calendar/whats-newish-1705575536\n\nVIRTUAL AND FR
 EE Wednesdays\, 9:00 AM Zoom Meeting Link: https://us02web.zoom.us/j/88917
 611244 Meeting ID: 889 1761 1244 Password: jewish(case sensitive) Join us 
 every Wednesday from 9-10 AM\, EST from the comfort of your own home!What
 ’s Newish is a current events discussion group that meets weekly via Zoo
 m\, and includes participants both from the United States and Israel. Ever
 ything is discussed\, from items related to Israel and to the Jewish commu
 nity. Occasionally\, we have guest speakers w...
DTSTART;TZID=America/New_York:20240124T090000
DTEND;TZID=America/New_York:20240124T110000
END:VEVENT
END:VCALENDAR
