BEGIN:VCALENDAR
PRODID:-//eluceo/ical//2.0/EN
VERSION:2.0
CALSCALE:GREGORIAN
BEGIN:VEVENT
UID:0a9686f4a61961a1c52a435b982500d5
DTSTAMP:20260421T235116Z
SUMMARY:What Should Colleges Know About You?
DESCRIPTION:Jewish Federation of West-Central New Jersey\nCommunity Calenda
 r\nhttps://jfedwcnj.org/calendar/what-should-colleges-know-about-you-15099
 84269\n\nLearn from experts about how to present the best you on your appl
 ications\, the role of extra-curricular activities and how you and your pa
 rents can navigate this transition smoothly. Open to all 8th-12th graders 
 and their parents. Advanced registration requested by November 14th. Walk-
 ins welcome. This event is sponsored by the Greater Jersey Hudson River Re
 gion of BBYO and is being coordinated by Michal Greenbaum Consulting.
DTSTART;TZID=America/New_York:20171119T130000
DTEND;TZID=America/New_York:20171119T170000
END:VEVENT
END:VCALENDAR
