BEGIN:VCALENDAR
PRODID:-//eluceo/ical//2.0/EN
VERSION:2.0
CALSCALE:GREGORIAN
BEGIN:VEVENT
UID:f9952376693b848b03afb92d96fb6b34
DTSTAMP:20260422T005150Z
SUMMARY:What should be top of mind for Jewish  Community
DESCRIPTION:Jewish Federation of West-Central New Jersey\nCommunity Calenda
 r\nhttps://jfedwcnj.org/calendar/what-should-be-top-of-mind-for-jewish-com
 munity\n\nJoin us on February 12th for a community discussion on the Jewis
 h community and the 2024 election. We will hear from Dr. Benjamin Dworkin\
 , founding director of the Rowan Institute for Public Policy and Citizensh
 ip (RIPPAC)
DTSTART;TZID=America/New_York:20240212T190000
DTEND;TZID=America/New_York:20240212T210000
END:VEVENT
END:VCALENDAR
