BEGIN:VCALENDAR
PRODID:-//eluceo/ical//2.0/EN
VERSION:2.0
CALSCALE:GREGORIAN
BEGIN:VEVENT
UID:433a7148f6ec597b01ccf28d6d109be9
DTSTAMP:20260423T212443Z
SUMMARY:What Makes Jewish Law Jewish
DESCRIPTION:Jewish Federation of West-Central New Jersey\nCommunity Calenda
 r\nhttps://jfedwcnj.org/calendar/what-makes-jewish-law-jewish\n\nJoin us
  for a remarkable new course from Rohr Jewish Learning Institute
  offered by Chabad of Greater Somerset County & The Jewish Fede
 ration of Somerset\, Hunterdon & Warren Counties' Cardozo Legal S
 ociety. Earn up to 9 CLE credits while learning with fellow leg
 al professionals.\n\n \n\nThree Wednesday Evenings 5:30 PM - 8:30
  PM\n\nWednesday\, July 13\, 2022\n\nWednesday\, August 10\, 2022\n
 \nWednesday\, September 14\, 2022\n\nNorris McLau...
DTSTART;TZID=America/New_York:20220713T173000
DTEND;TZID=America/New_York:20220713T203000
END:VEVENT
END:VCALENDAR
