BEGIN:VCALENDAR
PRODID:-//eluceo/ical//2.0/EN
VERSION:2.0
CALSCALE:GREGORIAN
BEGIN:VEVENT
UID:a5234d4deeb8b6876575bda4554b384a
DTSTAMP:20260422T133417Z
SUMMARY:What is Value Base Care? And why you should care about it
DESCRIPTION:Jewish Federation of West-Central New Jersey\nCommunity Calenda
 r\nhttps://jfedwcnj.org/calendar/what-is-value-base-care-and-why-you-shoul
 d-care-about-it\n\nExclusive Maimonides Memebers Event\n\nWhat is Value Ba
 se Care? And Why Should You Care About It with Dr. Jack Feltz \n\n \n\nF
 ebuary 23\, 2021 \n\n7:30pm Via Zoom \n\nFree For Maimonides Memebers \
 n\nCouvert for Non- Members $18\n\nDonation towards Federations humanitari
 an services\n\n \n\nDr. Feltz will discuss how applying the principles of
  Value Based Healthcare to your practice results in the highest quality\, 
 most affordable care for your patients.\n\n \n\nRSVP TODAY AT\n\nJFEDSHAW
 ...
DTSTART;TZID=America/New_York:20210223T193000
DTEND;TZID=America/New_York:20210223T213000
END:VEVENT
END:VCALENDAR
