BEGIN:VCALENDAR
PRODID:-//eluceo/ical//2.0/EN
VERSION:2.0
CALSCALE:GREGORIAN
BEGIN:VEVENT
UID:c9c7d10f39ba0fb23a0efa8fa9430f77
DTSTAMP:20260424T074648Z
SUMMARY:What Every Business Needs to Know about Protecting Intellectual Pro
 perty
DESCRIPTION:Jewish Federation of West-Central New Jersey\nCommunity Calenda
 r\nhttps://jfedwcnj.org/calendar/what-every-business-needs-to-know-about-p
 rotecting-intellectual-property\n\nEngaging Virtual Workshop & Networking 
 Event\n\nPresenter: Ken Kaplan\, Founder Kaplan Law & BNG Co-Chair\n\nExp
 lore intellectual property & how protocols protect valuable intellectual a
 ssets while increasing business value. \n\n \n\nKen will cover trademarks
 \, trade secrets\, copyrights & patents\, confidentiality & other intellec
 tual property protection agreements essential to protecting your assets.\n
 \nCouvert: $18 \n\nto reigister vist: Jfedshaw.org/BNG \n\nfor questions
  e-mail Lauren at ...
DTSTART;TZID=America/New_York:20210128T080000
DTEND;TZID=America/New_York:20210128T090000
END:VEVENT
END:VCALENDAR
