BEGIN:VCALENDAR
PRODID:-//eluceo/ical//2.0/EN
VERSION:2.0
CALSCALE:GREGORIAN
BEGIN:VEVENT
UID:ca953f59dcd841e3f80a4c91dac37b9f
DTSTAMP:20260422T211822Z
SUMMARY:Walking Tour of Hasidic Williamsburg
DESCRIPTION:Jewish Federation of West-Central New Jersey\nCommunity Calenda
 r\nhttps://jfedwcnj.org/calendar/walking-tour-of-hasidic-williamsburg-1457
 988484\n\nJoin us for a 2 hour walking tour of Hasidic Williamsburg guided
  by Frieda Vizel\, founder of Visit Hasidim Tours and former member of the
  Hasidic community. Tour concludes with sampling of local Kosher foods. Th
 is trip has been featured in the New York Times.  Bus leaves the JCC at 9a
 m and will return to the J at approximately 2:30 pm.  Participants should 
 feel comfortable walking one mile.\n\n$60/Member\; $65/Non-Member  Limited
  to 13 participants.
DTSTART;TZID=America/New_York:20160415T093000
DTEND;TZID=America/New_York:20160415T143000
END:VEVENT
END:VCALENDAR
