BEGIN:VCALENDAR
PRODID:-//eluceo/ical//2.0/EN
VERSION:2.0
CALSCALE:GREGORIAN
BEGIN:VEVENT
UID:add974d43c53ec361b3112522e982e6e
DTSTAMP:20260422T203654Z
SUMMARY:Wagner College Theater 75th Anniversary Warsaw Ghetto Uprising Play
DESCRIPTION:Jewish Federation of West-Central New Jersey\nCommunity Calenda
 r\nhttps://jfedwcnj.org/calendar/wagner-college-theater-75th-anniversary-w
 arsaw-ghetto-uprising-play-1521738132\n\nIn the Light of One Another: A me
 ditation on resistance drawn from the testimony of survivors.\nThe Words o
 f Holocaust Survivors Come to Life\nOn April 8th\, at 10 a.m.\, Congregati
 on B’nai Israel\nBasking Ridge\, New Jersey\nIn a free performance of an
  original full stage drama !\nThis year we will observe Yom Ha’Shoah\, o
 ur day for remembering the victims of the Holocaust and those who assisted
  them by paying attention to the 75th anniversary of the monumental Warsaw
  Ghetto Uprising. So we ...
DTSTART;TZID=America/New_York:20180408T100000
DTEND;TZID=America/New_York:20180408T120000
END:VEVENT
END:VCALENDAR
