BEGIN:VCALENDAR
PRODID:-//eluceo/ical//2.0/EN
VERSION:2.0
CALSCALE:GREGORIAN
BEGIN:VEVENT
UID:7c79250f75c2589aeb8db87212116930
DTSTAMP:20260422T091618Z
SUMMARY:Virtual Public Lecture: The Female Imagery of Ephraim Moses Lilien
DESCRIPTION:Jewish Federation of West-Central New Jersey\nCommunity Calenda
 r\nhttps://jfedwcnj.org/calendar/virtual-public-lecture-the-female-imagery
 -of-ephraim-moses-lilien-1659048253\n\nEphraim Moses Lilien (1874–1925) 
 was one of the most important Jewish artists at the turn of the twentieth 
 century. A successful illustrator\, photographer\, painter\, and printer\,
  he became the first major Zionist artist and the first modern Jewish arti
 st to create an entire book of biblical illustrations. This lecture examin
 es Lilien’s female imagery and the gendered discourse surrounding his co
 nstruction and imaging of the “New [Male] Jew.” Behind Jewish depictio
 ns of male athleticism...
DTSTART;TZID=America/New_York:20221205T193000
DTEND;TZID=America/New_York:20221205T203000
END:VEVENT
END:VCALENDAR
