BEGIN:VCALENDAR
PRODID:-//eluceo/ical//2.0/EN
VERSION:2.0
CALSCALE:GREGORIAN
BEGIN:VEVENT
UID:768692a970256f407d099764fcb7fc9b
DTSTAMP:20260421T235256Z
SUMMARY:Virtual Passover Cooking Class  with Paula Shoyer\, The Kosher Bake
 r
DESCRIPTION:Jewish Federation of West-Central New Jersey\nCommunity Calenda
 r\nhttps://jfedwcnj.org/calendar/virtual-passover-cooking-class--with-paul
 a-shoyer-the-kosher-baker-1677611672\n\nVirtual Passover Cooking Class\nMa
 rch 19\, 2023\n4:00-6:00\n$36\nRegistration:  www.flemingtonjcc.shulcloud.
 com/event/kosher-baker-Paula-Shoyer
DTSTART;TZID=America/New_York:20230319T160000
DTEND;TZID=America/New_York:20230319T180000
END:VEVENT
END:VCALENDAR
