BEGIN:VCALENDAR
PRODID:-//eluceo/ical//2.0/EN
VERSION:2.0
CALSCALE:GREGORIAN
BEGIN:VEVENT
UID:9959bbeb50421ff8c1eae6fdf88911d5
DTSTAMP:20260422T175935Z
SUMMARY:Virtual mission with JDC
DESCRIPTION:Jewish Federation of West-Central New Jersey\nCommunity Calenda
 r\nhttps://jfedwcnj.org/calendar/virtual-mission-with-jdc\n\nVirtual Miss
 ion \n\nto Latin America \n\nwith JDC \n\nMonday October 18\, 202
 1 at 7 PM\n\n\n\n\n\n\nExperience the Jewish Communities of Latin
  America \n\nfrom the comfort of \n\nyour home!\n\nJoin Federation
  partner JDC\, leading global Jewish humanitarian            
      organization\, as we highlight personal stories about the 
 impact  your support makes across Latin America.\n\n \n\nTo registe
 r vist: jfedshaw.org/crc
DTSTART;TZID=America/New_York:20211018T190000
DTEND;TZID=America/New_York:20211018T210000
END:VEVENT
END:VCALENDAR
