BEGIN:VCALENDAR
PRODID:-//eluceo/ical//2.0/EN
VERSION:2.0
CALSCALE:GREGORIAN
BEGIN:VEVENT
UID:63d1dc4deed3b4c3b87924a4a7082e16
DTSTAMP:20260421T053817Z
SUMMARY:Virtual Mission to DC
DESCRIPTION:Jewish Federation of West-Central New Jersey\nCommunity Calenda
 r\nhttps://jfedwcnj.org/calendar/virtual-mission-to-dc\n\nJoin the Jewish 
 Federation of Somerset\, Hunterdon & Warren Counties along with federation
  all across America for the first ever Virtual Mission to DC. \n\nFor mor
 e information visit https://www.jewishfederations.org/dcmission.  
DTSTART;TZID=America/New_York:20210201T193000
DTEND;TZID=America/New_York:20210202T163000
END:VEVENT
END:VCALENDAR
