BEGIN:VCALENDAR
PRODID:-//eluceo/ical//2.0/EN
VERSION:2.0
CALSCALE:GREGORIAN
BEGIN:VEVENT
UID:5675979b5a9ff68f2284ed4737372433
DTSTAMP:20260421T095939Z
SUMMARY:Virtual journey to Ethiopia and Israel.
DESCRIPTION:Jewish Federation of West-Central New Jersey\nCommunity Calenda
 r\nhttps://jfedwcnj.org/calendar/virtual-journey-to-ethiopia-and-israel\n\
 nJoin us on a virtual journey to Ethiopia and Israel. Hear personal storie
 s and achievements of members of the Ethiopian Jewish community and learn 
 about our Federations' longstanding involvement and support.\n\n \n\nJanu
 ary 10\, 17 and 24\, 2022 12:00-1:00pm\n\n \n\nPlease register using this
  link:\n\nOr copy and paste this address into your browser:    https://
 zoom.us/meeting/register/tJctd-mqqDstG9Co5jlrgbznbwTmrPTHwe5E\n\n 
DTSTART;TZID=America/New_York:20220110T120000
DTEND;TZID=America/New_York:20220110T130000
END:VEVENT
END:VCALENDAR
