BEGIN:VCALENDAR
PRODID:-//eluceo/ical//2.0/EN
VERSION:2.0
CALSCALE:GREGORIAN
BEGIN:VEVENT
UID:192a9ebcae917f34a8ae0d90534fb035
DTSTAMP:20260422T004947Z
SUMMARY:Virtual International Kristallnacht Commemoration
DESCRIPTION:Jewish Federation of West-Central New Jersey\nCommunity Calenda
 r\nhttps://jfedwcnj.org/calendar/virtual-international-kristallnacht-comme
 moration\n\nRVCC Institute of Holocaust and Genocide Studies with the Mont
 real Holocaust Museum will host an International Kristallnacht Commemorati
 on. \n\n \n\nThis special event will include the Virtual Kick-off Tour o
 f the Montreal Holocaust Museum Exhibit\, And in 1948\, I Came to Canada:
  The Holocaust in Six Dates\, located at RVCC. Additionally\, Elie Dawang\
 , one of the survivors highlighted in the exhibit\, will share his testimo
 ny. There will be a Q&A with Elie Dawang following the presentation. Th...
DTSTART;TZID=America/New_York:20211110T100000
DTEND;TZID=America/New_York:20211110T113000
END:VEVENT
END:VCALENDAR
