BEGIN:VCALENDAR
PRODID:-//eluceo/ical//2.0/EN
VERSION:2.0
CALSCALE:GREGORIAN
BEGIN:VEVENT
UID:cb5280b7cf16dffd4260d8db7c455d13
DTSTAMP:20260420T195004Z
SUMMARY:Virtual Cocktail Hour
DESCRIPTION:Jewish Federation of West-Central New Jersey\nCommunity Calenda
 r\nhttps://jfedwcnj.org/calendar/virtual-cocktail-hour\n\nJoin the Busines
 s Networking Group of the Jewish Federation of Somerset\, Hunterdon & Warr
 en Counties for a Virtual Cocktail Hour. \n\nDecember 16th \n\n5:30-6:30
 pm \n\nVia Zoom \n\nCouvert: $18 ( includes Glass)\n\nSign up b December
  11th to recieve glass before the event. \n\nHosted by BNG Co- Chairs  
 Ken Kaplen & Andy Tupler \n\n \n\nFor questions: call Lauren 908-758-200
 3 or E-mail Ledelman@jfedshaw.org 
DTSTART;TZID=America/New_York:20201216T173000
DTEND;TZID=America/New_York:20201216T183000
END:VEVENT
END:VCALENDAR
