BEGIN:VCALENDAR
PRODID:-//eluceo/ical//2.0/EN
VERSION:2.0
CALSCALE:GREGORIAN
BEGIN:VEVENT
UID:146aa421cf4601c17a6ce3546e36cb50
DTSTAMP:20260423T050422Z
SUMMARY:Virtual Author Lecture - The Berkshires: Farm Table Cookbook
DESCRIPTION:Jewish Federation of West-Central New Jersey\nCommunity Calenda
 r\nhttps://jfedwcnj.org/calendar/virtual-author-lecture---the-berkshires-f
 arm-table-cookbook-1616082030\n\nJoin us for the next event in the Alexand
 er Joseph Kaufman Author Lecture Series! Authors Elisa Spungen Bildner and
  Robert Bildner will present on the Berkshires Farm Table Cookbook.\n\nEli
 sa Spungen Bildner and Robert Bilnder have lived in the Berkshires for 35 
 years.\n\nThe Berkshires Farm Table Cookbook captures the fresh\, flavorfu
 l recipes of a truly bucolic region of the United States. The rolling hill
 s and treetop mountains of the Berkshire region have long been known as a 
 cultural mecc...
DTSTART;TZID=America/New_York:20210420T180000
DTEND;TZID=America/New_York:20210420T193000
END:VEVENT
END:VCALENDAR
