BEGIN:VCALENDAR
PRODID:-//eluceo/ical//2.0/EN
VERSION:2.0
CALSCALE:GREGORIAN
BEGIN:VEVENT
UID:c22e5915f2ad5deea5d19790d9ac2e96
DTSTAMP:20260423T081023Z
SUMMARY:Veterans Benefits & Senior Living
DESCRIPTION:Jewish Federation of West-Central New Jersey\nCommunity Calenda
 r\nhttps://jfedwcnj.org/calendar/veterans-benefits--senior-living-15713308
 12\n\nJoin us to learn about veterans benefits and senior living. Breakfas
 t will be provided.
DTSTART;TZID=America/New_York:20191107T093000
DTEND;TZID=America/New_York:20191107T110000
END:VEVENT
END:VCALENDAR
