BEGIN:VCALENDAR
PRODID:-//eluceo/ical//2.0/EN
VERSION:2.0
CALSCALE:GREGORIAN
BEGIN:VEVENT
UID:40f7069db074c74da20c6a7a06ac4e8d
DTSTAMP:20260423T182404Z
SUMMARY:Veterans Benefits & Senior Living - Online Event
DESCRIPTION:Jewish Federation of West-Central New Jersey\nCommunity Calenda
 r\nhttps://jfedwcnj.org/calendar/veterans-benefits--senior-living---online
 -event-1603228957\n\nJoin the Wilf Campus for Senior Living and Archer Law
  Office for this free and insightful online event!\n\nCarl Archer\, Esq.\,
  of Archer Law Office will be discussing available benefits for veterans a
 nd their spouses and how they can be utilized to help with senior living e
 xpenses. Also find out how to apply and who qualifies. \n\nParticipants mu
 st register in advance at \nhttps://tinyurl.com/VeteransBenefitsforSeniors
 \n\nLink to join the Zoom webinar will be emailed to you after you registe
 r. 
DTSTART;TZID=America/New_York:20201103T110000
DTEND;TZID=America/New_York:20201103T133000
END:VEVENT
END:VCALENDAR
