BEGIN:VCALENDAR
PRODID:-//eluceo/ical//2.0/EN
VERSION:2.0
CALSCALE:GREGORIAN
BEGIN:VEVENT
UID:745e3612bbe89b7abcb16398a0d564d5
DTSTAMP:20260423T071754Z
SUMMARY:Vacation Camp: Color War
DESCRIPTION:Jewish Federation of West-Central New Jersey\nCommunity Calenda
 r\nhttps://jfedwcnj.org/calendar/vacation-camp-color-war-1550101915\n\nOpe
 n to all children in grades K-6. Each day includes pool time\, gym time an
 d more.\nTwo teams will complete in trivia\, sports and "name that tune". 
 Create your team theme\, cheer and banner! Discounted Member Fee: $60 or F
 ee: $65\nEarly Stay $6(7:45 AM - 9:00 AM) and Late Stay $8 (4:00 - 6:00 PM
 )\nRegister online or call our Welcome Center at 908-443-9018.
DTSTART;TZID=America/New_York:20190218T090000
DTEND;TZID=America/New_York:20190218T160000
END:VEVENT
END:VCALENDAR
