BEGIN:VCALENDAR
PRODID:-//eluceo/ical//2.0/EN
VERSION:2.0
CALSCALE:GREGORIAN
BEGIN:VEVENT
UID:886356a0a33ddb1a861b3bb74cceea5e
DTSTAMP:20260422T203733Z
SUMMARY:The Number On Great-Grandpa's Arm\, Online Film & Discussion
DESCRIPTION:Jewish Federation of West-Central New Jersey\nCommunity Calenda
 r\nhttps://jfedwcnj.org/calendar/unpacking-the-past-the-number-on-great-gr
 andpas-arm-online-film-discussion\n\nDiscover the HBO documentary The Numb
 er on Great-Grandpa’s Arm. This short family film introduces Holocaust h
 istory to a new generation. When 10-year-old Elliott asks his 90-year-old 
 great-grandfather\, Jack\, about the number tattooed on his arm\, he spark
 s an intimate conversation about Jack’s life that spans happy memories o
 f childhood in Poland\, the loss of his family\, surviving Auschwitz\, and
  finding a new life in America. Their tender exchange is woven with histor
 ical footage and hand-...
DTSTART;TZID=America/New_York:20211001T150000
DTEND;TZID=America/New_York:20211001T160000
END:VEVENT
END:VCALENDAR
