BEGIN:VCALENDAR
PRODID:-//eluceo/ical//2.0/EN
VERSION:2.0
CALSCALE:GREGORIAN
BEGIN:VEVENT
UID:6145d09e24a2e3ba99aded252df7f141
DTSTAMP:20260421T054742Z
SUMMARY:Understanding the Iran Nuclear Negotiations & Deal
DESCRIPTION:Jewish Federation of West-Central New Jersey\nCommunity Calenda
 r\nhttps://jfedwcnj.org/calendar/understanding-the-iran-nuclear-negotiatio
 ns-deal\n\nThe American Israel Public Affairs Committee & The Jewish Feder
 ation of Northern New Jersey present an insider's briefing with Ambassador
  Bradley Gordon\, Director of POlicy & Government Affairs at AIPAC.\n\nWha
 t's the deal? What has happened? What will happen? All will be discussed.
DTSTART;TZID=America/New_York:20150722T190000
DTEND;TZID=America/New_York:20150722T210000
END:VEVENT
END:VCALENDAR
