BEGIN:VCALENDAR
PRODID:-//eluceo/ical//2.0/EN
VERSION:2.0
CALSCALE:GREGORIAN
BEGIN:VEVENT
UID:f6ca5adc72c88b043eb57143bca519e4
DTSTAMP:20260423T095440Z
SUMMARY:Understanding the 2020 Election & the Jewish Vote
DESCRIPTION:Jewish Federation of West-Central New Jersey\nCommunity Calenda
 r\nhttps://jfedwcnj.org/calendar/understanding-the-2020-election-the-jewis
 h-vote\n\nJoin Larry Rosin President\, Edison Research for a conversation 
 about Understanding the 2020 Election & the Jewish Vote. \n\nDecember 9\,
  2020 \n\n7pm \n\nVia Zoom\n\nSign up for this free event\, Jfedshaw.org
 /crc  
DTSTART;TZID=America/New_York:20201209T190000
DTEND;TZID=America/New_York:20201209T200000
END:VEVENT
END:VCALENDAR
