BEGIN:VCALENDAR
PRODID:-//eluceo/ical//2.0/EN
VERSION:2.0
CALSCALE:GREGORIAN
BEGIN:VEVENT
UID:74db22566fb72082016d3d006650bc38
DTSTAMP:20260423T023207Z
SUMMARY:Understanding Secure 2.0
DESCRIPTION:Jewish Federation of West-Central New Jersey\nCommunity Calenda
 r\nhttps://jfedwcnj.org/calendar/understanding-secure-20\n\nUnderstanding 
 Secure 2.0\n\nA BNG lunch & learn: Understanding recent Congressional chan
 ges to retirement plans\n\n \n\n\nFeaturing\n\nKal Bason and Joe Caplan 
 \n\n \n\n$36 Couvert in advanvce \n\n$40 Couvert at the door\n\n \n\n\n
  
DTSTART;TZID=America/New_York:20230301T120000
DTEND;TZID=America/New_York:20230301T133000
END:VEVENT
END:VCALENDAR
